BEGIN:VCALENDAR
VERSION:2.0
PRODID:-//eventon.com NONSGML v1.0//EN
CALSCALE:GREGORIAN
METHOD:PUBLISH
BEGIN:VEVENT
UID:69ea11bfe19ec
DTSTAMP:20260423T123407
DTSTART:20260502T183000Z
DTEND:20260502T220000Z
TZID:Europe/Rome
LOCATION:
SUMMARY:DJ set: Discoverso
DESCRIPTION:26/04 18:30–20:00 – Zani27/04 18:30–20:00 – Spaceobsv28/04 18:30–20:00 – Stefano Conte29/04 18:30–20:00 – Dente02/05 18:30–20:00 – Ashed Thought Prima che si accendano i riflettori sulle proiezioni serali\,  il piazzale del Teatro Nuovo si trasforma in un suggestivo palcoscenico musicale. Discoverso presenta cinque viaggi sonori al crepuscolo\,  guidati da altrettanti DJ.[..]\nhttps://events.fareastfilm.com/events/dj-set-discoverso/var/ri-4.l-L1
URL:https://events.fareastfilm.com/events/dj-set-discoverso/var/ri-4.l-L1
END:VEVENT
END:VCALENDAR